BEGIN:VCALENDAR
VERSION:2.0
PRODID:-//MOVE - ECPv6.2.3.2//NONSGML v1.0//EN
CALSCALE:GREGORIAN
METHOD:PUBLISH
X-ORIGINAL-URL:https://www.movearteparatodos.com
X-WR-CALDESC:Eventos para MOVE
REFRESH-INTERVAL;VALUE=DURATION:PT1H
X-Robots-Tag:noindex
X-PUBLISHED-TTL:PT1H
BEGIN:VTIMEZONE
TZID:Europe/Madrid
BEGIN:DAYLIGHT
TZOFFSETFROM:+0100
TZOFFSETTO:+0200
TZNAME:CEST
DTSTART:20230326T010000
END:DAYLIGHT
BEGIN:STANDARD
TZOFFSETFROM:+0200
TZOFFSETTO:+0100
TZNAME:CET
DTSTART:20231029T010000
END:STANDARD
END:VTIMEZONE
BEGIN:VEVENT
DTSTART;TZID=Europe/Madrid:20231017T093000
DTEND;TZID=Europe/Madrid:20231017T123000
DTSTAMP:20260424T154353
CREATED:20231003T200820Z
LAST-MODIFIED:20231003T200820Z
UID:3684-1697535000-1697545800@www.movearteparatodos.com
SUMMARY:Gugugá
DESCRIPTION:
URL:https://www.movearteparatodos.com/event/guguga-3/
LOCATION:Jardín Infantil\, Calle de Embajadores\, 173\, Madrid\, 28045\, España
CATEGORIES:Clases unitarias
END:VEVENT
BEGIN:VEVENT
DTSTART;TZID=Europe/Madrid:20231016T200000
DTEND;TZID=Europe/Madrid:20231016T213000
DTSTAMP:20260424T154353
CREATED:20230919T141951Z
LAST-MODIFIED:20231003T160832Z
UID:3310-1697486400-1697491800@www.movearteparatodos.com
SUMMARY:La Poesía del Cuerpo
DESCRIPTION:
URL:https://www.movearteparatodos.com/event/la-poesia-del-cuerpo-4/
LOCATION:Aula de músicas\, Plaza de Peñuelas\, 11\, Madrid\, 28005
CATEGORIES:Clases unitarias
END:VEVENT
BEGIN:VEVENT
DTSTART;TZID=Europe/Madrid:20231016T170000
DTEND;TZID=Europe/Madrid:20231016T180000
DTSTAMP:20260424T154353
CREATED:20231003T180246Z
LAST-MODIFIED:20231003T180246Z
UID:3641-1697475600-1697479200@www.movearteparatodos.com
SUMMARY:Jugando a Ser
DESCRIPTION:
URL:https://www.movearteparatodos.com/event/jugando-a-ser-5/
LOCATION:Centros de Apoyo a las Familias 2\, Calle Matapozuelos\, 6\, Madrid\, 28043\, España
CATEGORIES:Clases unitarias
END:VEVENT
BEGIN:VEVENT
DTSTART;TZID=Europe/Madrid:20231016T110000
DTEND;TZID=Europe/Madrid:20231016T150000
DTSTAMP:20260424T154353
CREATED:20230917T221442Z
LAST-MODIFIED:20231003T161751Z
UID:3201-1697454000-1697468400@www.movearteparatodos.com
SUMMARY:La Poesía del Cuerpo
DESCRIPTION:
URL:https://www.movearteparatodos.com/event/poesia-en-el-cuerpo-3/
LOCATION:Estudio Sincronia\, Calle Duque De Alba 9\, bajo.\, Madrid\, 28012\, España
CATEGORIES:Clases unitarias
END:VEVENT
BEGIN:VEVENT
DTSTART;TZID=Europe/Madrid:20231013T180000
DTEND;TZID=Europe/Madrid:20231013T203000
DTSTAMP:20260424T154353
CREATED:20231002T182402Z
LAST-MODIFIED:20231003T130430Z
UID:3548-1697220000-1697229000@www.movearteparatodos.com
SUMMARY:MI: Bailar la Soledad más allá de la Edad
DESCRIPTION:Siguen talleres -24
URL:https://www.movearteparatodos.com/event/mi-bailar-la-soledad-mas-alla-de-la-edad-2/
LOCATION:Centro Juvenil Pipo Velasco\, Calle Avena\, 5\, Madrid\, 28026
CATEGORIES:Evento colectivo
END:VEVENT
BEGIN:VEVENT
DTSTART;TZID=Europe/Madrid:20231011T113000
DTEND;TZID=Europe/Madrid:20231011T123000
DTSTAMP:20260424T154353
CREATED:20231003T172448Z
LAST-MODIFIED:20231003T172448Z
UID:3621-1697023800-1697027400@www.movearteparatodos.com
SUMMARY:Jugando a Ser
DESCRIPTION:
URL:https://www.movearteparatodos.com/event/jugando-a-ser-4/
LOCATION:Casa Grande – Carabanchel\, Calle Monseñor Óscar Romero\, 4\, Madrid\, 28025\, España
CATEGORIES:Clases unitarias
END:VEVENT
BEGIN:VEVENT
DTSTART;TZID=Europe/Madrid:20231011T110000
DTEND;TZID=Europe/Madrid:20231011T130000
DTSTAMP:20260424T154353
CREATED:20230917T210143Z
LAST-MODIFIED:20230919T143252Z
UID:3178-1697022000-1697029200@www.movearteparatodos.com
SUMMARY:Clase de MenDa
DESCRIPTION:
URL:https://www.movearteparatodos.com/event/clase-de-menda-4/
LOCATION:Estudio Sincronia\, Calle Duque De Alba 9\, bajo.\, Madrid\, 28012\, España
CATEGORIES:Clases unitarias
END:VEVENT
BEGIN:VEVENT
DTSTART;TZID=Europe/Madrid:20231010T093000
DTEND;TZID=Europe/Madrid:20231010T123000
DTSTAMP:20260424T154353
CREATED:20231003T200656Z
LAST-MODIFIED:20231003T200656Z
UID:3682-1696930200-1696941000@www.movearteparatodos.com
SUMMARY:Gugugá
DESCRIPTION:
URL:https://www.movearteparatodos.com/event/guguga-2/
LOCATION:Jardín Infantil\, Calle de Embajadores\, 173\, Madrid\, 28045\, España
CATEGORIES:Clases unitarias
END:VEVENT
BEGIN:VEVENT
DTSTART;TZID=Europe/Madrid:20231009T200000
DTEND;TZID=Europe/Madrid:20231009T213000
DTSTAMP:20260424T154353
CREATED:20230919T141850Z
LAST-MODIFIED:20231003T160920Z
UID:3308-1696881600-1696887000@www.movearteparatodos.com
SUMMARY:La Poesía del Cuerpo
DESCRIPTION:
URL:https://www.movearteparatodos.com/event/la-poesia-del-cuerpo-3/
LOCATION:Aula de músicas\, Plaza de Peñuelas\, 11\, Madrid\, 28005
CATEGORIES:Clases unitarias
END:VEVENT
BEGIN:VEVENT
DTSTART;TZID=Europe/Madrid:20231009T110000
DTEND;TZID=Europe/Madrid:20231009T130000
DTSTAMP:20260424T154353
CREATED:20230917T220727Z
LAST-MODIFIED:20231003T161844Z
UID:3199-1696849200-1696856400@www.movearteparatodos.com
SUMMARY:La Poesía del Cuerpo
DESCRIPTION:
URL:https://www.movearteparatodos.com/event/poesia-en-el-cuerpo-2/
LOCATION:Estudio Sincronia\, Calle Duque De Alba 9\, bajo.\, Madrid\, 28012\, España
CATEGORIES:Clases unitarias
END:VEVENT
BEGIN:VEVENT
DTSTART;TZID=Europe/Madrid:20231006T180000
DTEND;TZID=Europe/Madrid:20231006T203000
DTSTAMP:20260424T154353
CREATED:20231002T181534Z
LAST-MODIFIED:20231003T130340Z
UID:3545-1696615200-1696624200@www.movearteparatodos.com
SUMMARY:MI: Bailar la Soledad más allá de la Edad
DESCRIPTION:Comienzo de los talleres -24
URL:https://www.movearteparatodos.com/event/mi-bailar-la-soledad-mas-alla-de-la-edad/
LOCATION:Centro Juvenil Pipo Velasco\, Calle Avena\, 5\, Madrid\, 28026
CATEGORIES:Evento colectivo
END:VEVENT
BEGIN:VEVENT
DTSTART;TZID=Europe/Madrid:20231004T110000
DTEND;TZID=Europe/Madrid:20231004T170000
DTSTAMP:20260424T154353
CREATED:20230919T150331Z
LAST-MODIFIED:20230919T150331Z
UID:3344-1696417200-1696438800@www.movearteparatodos.com
SUMMARY:Jugando a Ser
DESCRIPTION:
URL:https://www.movearteparatodos.com/event/jugando-a-ser-2/
LOCATION:Casa Grande – Tetuán\, Calle San Enrique\, 16\, Madrid\, 28020
CATEGORIES:Clases unitarias
END:VEVENT
BEGIN:VEVENT
DTSTART;TZID=Europe/Madrid:20231004T110000
DTEND;TZID=Europe/Madrid:20231004T130000
DTSTAMP:20260424T154353
CREATED:20230917T205844Z
LAST-MODIFIED:20230919T143252Z
UID:3176-1696417200-1696424400@www.movearteparatodos.com
SUMMARY:Clase de MenDa
DESCRIPTION:
URL:https://www.movearteparatodos.com/event/clase-de-menda-3/
LOCATION:Estudio Sincronia\, Calle Duque De Alba 9\, bajo.\, Madrid\, 28012\, España
CATEGORIES:Clases unitarias
END:VEVENT
BEGIN:VEVENT
DTSTART;TZID=Europe/Madrid:20231004T110000
DTEND;TZID=Europe/Madrid:20231004T120000
DTSTAMP:20260424T154353
CREATED:20231003T164609Z
LAST-MODIFIED:20231003T164801Z
UID:3619-1696417200-1696420800@www.movearteparatodos.com
SUMMARY:Jugando a Ser
DESCRIPTION:
URL:https://www.movearteparatodos.com/event/jugando-a-ser-3/
LOCATION:Casa Grande – Vallecas\, Calle Virgen de las Viñas\, 11\, Madrid\, 28031
CATEGORIES:Clases unitarias
END:VEVENT
BEGIN:VEVENT
DTSTART;VALUE=DATE:20231004
DTEND;VALUE=DATE:20231005
DTSTAMP:20260424T154353
CREATED:20231002T175349Z
LAST-MODIFIED:20231003T164105Z
UID:3543-1696377600-1696463999@www.movearteparatodos.com
SUMMARY:Festum per Tempus
DESCRIPTION:Acción dramática de bienvenida y recepción en la Noche de los Palacios abulenses dentro de los eventos del  LVIII Symposium Ciéntífico Avicultura celebrado en Ávila entre el 4 y 6 de octubre
URL:https://www.movearteparatodos.com/event/festum-per-tempus/
CATEGORIES:Evento colectivo
END:VEVENT
BEGIN:VEVENT
DTSTART;TZID=Europe/Madrid:20231003T093000
DTEND;TZID=Europe/Madrid:20231003T123000
DTSTAMP:20260424T154353
CREATED:20231003T200446Z
LAST-MODIFIED:20231003T201305Z
UID:3680-1696325400-1696336200@www.movearteparatodos.com
SUMMARY:Gugugá
DESCRIPTION:
URL:https://www.movearteparatodos.com/event/guguga/
LOCATION:Jardín Infantil\, Calle de Embajadores\, 173\, Madrid\, 28045\, España
CATEGORIES:Clases unitarias
END:VEVENT
BEGIN:VEVENT
DTSTART;TZID=Europe/Madrid:20231002T200000
DTEND;TZID=Europe/Madrid:20231002T213000
DTSTAMP:20260424T154353
CREATED:20230919T141723Z
LAST-MODIFIED:20231003T160958Z
UID:3299-1696276800-1696282200@www.movearteparatodos.com
SUMMARY:La Poesía del Cuerpo
DESCRIPTION:
URL:https://www.movearteparatodos.com/event/la-poesia-del-cuerpo-2/
LOCATION:Aula de músicas\, Plaza de Peñuelas\, 11\, Madrid\, 28005
CATEGORIES:Clases unitarias
END:VEVENT
BEGIN:VEVENT
DTSTART;TZID=Europe/Madrid:20231002T110000
DTEND;TZID=Europe/Madrid:20231002T130000
DTSTAMP:20260424T154353
CREATED:20230917T220555Z
LAST-MODIFIED:20231003T161924Z
UID:3197-1696244400-1696251600@www.movearteparatodos.com
SUMMARY:La Poesía del Cuerpo
DESCRIPTION:
URL:https://www.movearteparatodos.com/event/poesia-en-el-cuerpo/
LOCATION:Estudio Sincronia\, Calle Duque De Alba 9\, bajo.\, Madrid\, 28012\, España
CATEGORIES:Clases unitarias
END:VEVENT
BEGIN:VEVENT
DTSTART;TZID=Europe/Madrid:20230930T103000
DTEND;TZID=Europe/Madrid:20230930T130000
DTSTAMP:20260424T154353
CREATED:20230917T215908Z
LAST-MODIFIED:20231003T163057Z
UID:3195-1696069800-1696078800@www.movearteparatodos.com
SUMMARY:La poesía del cuerpo
DESCRIPTION:
URL:https://www.movearteparatodos.com/event/poesia-del-cuerpo/
LOCATION:Eoan Ballet Academy\, Calle de Medina del Campo\, 4\, Avila\, 05005
CATEGORIES:Clases unitarias
END:VEVENT
BEGIN:VEVENT
DTSTART;TZID=Europe/Madrid:20230927T110000
DTEND;TZID=Europe/Madrid:20230927T130000
DTSTAMP:20260424T154353
CREATED:20230917T205536Z
LAST-MODIFIED:20230919T143252Z
UID:3174-1695812400-1695819600@www.movearteparatodos.com
SUMMARY:Clase de MenDa
DESCRIPTION:
URL:https://www.movearteparatodos.com/event/clase-de-menda-2/
CATEGORIES:Clases unitarias
END:VEVENT
BEGIN:VEVENT
DTSTART;TZID=Europe/Madrid:20230922T163000
DTEND;TZID=Europe/Madrid:20230922T180000
DTSTAMP:20260424T154353
CREATED:20230917T213557Z
LAST-MODIFIED:20230919T143212Z
UID:3191-1695400200-1695405600@www.movearteparatodos.com
SUMMARY:Jugando a Ser
DESCRIPTION:
URL:https://www.movearteparatodos.com/event/jugando-a-ser/
LOCATION:Iglesuela del Tietar\, Iglesuela del Tietar\, Toledo
CATEGORIES:Clases unitarias
END:VEVENT
BEGIN:VEVENT
DTSTART;TZID=Europe/Madrid:20230920T110000
DTEND;TZID=Europe/Madrid:20230920T130000
DTSTAMP:20260424T154353
CREATED:20230917T203239Z
LAST-MODIFIED:20230919T143212Z
UID:3167-1695207600-1695214800@www.movearteparatodos.com
SUMMARY:Clase de MenDa
DESCRIPTION:
URL:https://www.movearteparatodos.com/event/clase-de-menda/
LOCATION:Estudio Sincronia\, Calle Duque De Alba 9\, bajo.\, Madrid\, 28012\, España
CATEGORIES:Clases unitarias
END:VEVENT
BEGIN:VEVENT
DTSTART;TZID=Europe/Madrid:20230919T190000
DTEND;TZID=Europe/Madrid:20230919T200000
DTSTAMP:20260424T154353
CREATED:20230917T212436Z
LAST-MODIFIED:20231003T130255Z
UID:3185-1695150000-1695153600@www.movearteparatodos.com
SUMMARY:Reunión informativa de MI: Bailar la soledad más allá de la Edad
DESCRIPTION:
URL:https://www.movearteparatodos.com/event/reunion-informativa-de-mi-bailar-la-soledad-mas-alla-de-la-edad/
LOCATION:Centro Juvenil Pipo Velasco\, Calle Avena\, 5\, Madrid\, 28026
CATEGORIES:Sesión informativa
END:VEVENT
END:VCALENDAR